BEGIN:VCALENDAR
VERSION:2.0
PRODID:-//Volksschule Bad Schallerbach - ECPv6.7.1//NONSGML v1.0//EN
CALSCALE:GREGORIAN
METHOD:PUBLISH
X-ORIGINAL-URL:https://vs.bad-schallerbach.at
X-WR-CALDESC:Veranstaltungen für Volksschule Bad Schallerbach
REFRESH-INTERVAL;VALUE=DURATION:PT1H
X-Robots-Tag:noindex
X-PUBLISHED-TTL:PT1H
BEGIN:VTIMEZONE
TZID:Europe/Vienna
BEGIN:DAYLIGHT
TZOFFSETFROM:+0100
TZOFFSETTO:+0200
TZNAME:CEST
DTSTART:20250330T010000
END:DAYLIGHT
BEGIN:STANDARD
TZOFFSETFROM:+0200
TZOFFSETTO:+0100
TZNAME:CET
DTSTART:20251026T010000
END:STANDARD
END:VTIMEZONE
BEGIN:VEVENT
DTSTART;TZID=Europe/Vienna:20250911T080000
DTEND;TZID=Europe/Vienna:20250911T090000
DTSTAMP:20260420T122630
CREATED:20250911T083722Z
LAST-MODIFIED:20250911T083722Z
UID:6787-1757577600-1757581200@vs.bad-schallerbach.at
SUMMARY:Schulfeier zum Schulbeginn
DESCRIPTION:Schulfeier zum Schulbeginn \nWir feiern gemeinsam den Beginn des neuen Schuljahres mir einem Fest in der Schule.
URL:https://vs.bad-schallerbach.at/event/schulfeier-zum-schulbeginn/
END:VEVENT
BEGIN:VEVENT
DTSTART;TZID=Europe/Vienna:20250911T190000
DTEND;TZID=Europe/Vienna:20250911T200000
DTSTAMP:20260420T122630
CREATED:20250911T083623Z
LAST-MODIFIED:20250911T083623Z
UID:6785-1757617200-1757620800@vs.bad-schallerbach.at
SUMMARY:Klassenforum/Elternabend Vorschule und 1. Schulstufe
DESCRIPTION:Klassenforum/Elternabend für die Vorschule und die 1. Schulstufe \n  \nJeweils im Klassenraum Ihres Kindes
URL:https://vs.bad-schallerbach.at/event/klassenforum-elternabend-vorschule-und-1-schulstufe/
END:VEVENT
END:VCALENDAR