BEGIN:VCALENDAR
VERSION:2.0
PRODID:-//Volksschule Bad Schallerbach - ECPv6.7.1//NONSGML v1.0//EN
CALSCALE:GREGORIAN
METHOD:PUBLISH
X-ORIGINAL-URL:https://vs.bad-schallerbach.at
X-WR-CALDESC:Veranstaltungen für Volksschule Bad Schallerbach
REFRESH-INTERVAL;VALUE=DURATION:PT1H
X-Robots-Tag:noindex
X-PUBLISHED-TTL:PT1H
BEGIN:VTIMEZONE
TZID:Europe/Vienna
BEGIN:DAYLIGHT
TZOFFSETFROM:+0100
TZOFFSETTO:+0200
TZNAME:CEST
DTSTART:20260329T010000
END:DAYLIGHT
BEGIN:STANDARD
TZOFFSETFROM:+0200
TZOFFSETTO:+0100
TZNAME:CET
DTSTART:20261025T010000
END:STANDARD
END:VTIMEZONE
BEGIN:VEVENT
DTSTART;TZID=Europe/Vienna:20260427T083000
DTEND;TZID=Europe/Vienna:20260427T113000
DTSTAMP:20260425T151828
CREATED:20260417T080819Z
LAST-MODIFIED:20260417T080819Z
UID:7963-1777278600-1777289400@vs.bad-schallerbach.at
SUMMARY:"JUNG UND ALT"\, 2b-Klasse
DESCRIPTION:Besuch im Alten- und Pflegeheim St. Raphael
URL:https://vs.bad-schallerbach.at/event/jung-und-alt-2b-klasse/
END:VEVENT
BEGIN:VEVENT
DTSTART;TZID=Europe/Vienna:20260428T080000
DTEND;TZID=Europe/Vienna:20260428T103000
DTSTAMP:20260425T151828
CREATED:20260417T080230Z
LAST-MODIFIED:20260421T054236Z
UID:7958-1777363200-1777372200@vs.bad-schallerbach.at
SUMMARY:IKMplus-Testung Deutsch (Lesen)\, 4. Sst.
DESCRIPTION:
URL:https://vs.bad-schallerbach.at/event/ikmplus-testung-m-4-sst/
END:VEVENT
BEGIN:VEVENT
DTSTART;TZID=Europe/Vienna:20260429T080000
DTEND;TZID=Europe/Vienna:20260429T103000
DTSTAMP:20260425T151828
CREATED:20260421T054138Z
LAST-MODIFIED:20260421T062336Z
UID:7999-1777449600-1777458600@vs.bad-schallerbach.at
SUMMARY:IKMplus-Testung Mathematik\, 3. Sst.
DESCRIPTION:
URL:https://vs.bad-schallerbach.at/event/ikmplus-mathematik-3-sst/
END:VEVENT
END:VCALENDAR